BEGIN:VCALENDAR
VERSION:2.0
PRODID:-//MARIKO | Maritimes Kompetenzzentrum - ECPv6.6.1//NONSGML v1.0//EN
CALSCALE:GREGORIAN
METHOD:PUBLISH
X-ORIGINAL-URL:https://alt.mariko-leer.de
X-WR-CALDESC:Veranstaltungen für MARIKO | Maritimes Kompetenzzentrum
REFRESH-INTERVAL;VALUE=DURATION:PT1H
X-Robots-Tag:noindex
X-PUBLISHED-TTL:PT1H
BEGIN:VTIMEZONE
TZID:Europe/Berlin
BEGIN:DAYLIGHT
TZOFFSETFROM:+0100
TZOFFSETTO:+0200
TZNAME:CEST
DTSTART:20220327T010000
END:DAYLIGHT
BEGIN:STANDARD
TZOFFSETFROM:+0200
TZOFFSETTO:+0100
TZNAME:CET
DTSTART:20221030T010000
END:STANDARD
END:VTIMEZONE
BEGIN:VEVENT
DTSTART;TZID=Europe/Berlin:20220517T090000
DTEND;TZID=Europe/Berlin:20220518T170000
DTSTAMP:20260420T182436
CREATED:20220124T163738Z
LAST-MODIFIED:20220429T132240Z
UID:15283-1652778000-1652893200@alt.mariko-leer.de
SUMMARY:Hydrogen Cross Border Conference 2022
DESCRIPTION:Gemeinsam in die Umsetzung \nDie Niederlande und Deutschland treiben den Aufbau einer Wasserstoffwirtschaft auf beiden Seiten der Grenze voran – und\nimmer häufiger auch gemeinsam. \n700 Teilnehmende haben 2021 unter dem Motto Grenzüberschreitend die Energiewende gestalten bei der ersten Hydrogen Cross Border Conference (online) diskutiert und Ideen ausgetauscht. \n2022 wird es an zwei Tagen eine gemeinsame Konferenz und Exkursion geben. Nun heißt es: Gemeinsam in die Umsetzung. \nKonferenz: Am 17. Mai dreht sich zwischen 9 und 17 Uhr im MARIKO in Leer alles um die Themen Industrie\, Hafen & Schiffe\, Mobilität und Akzeptanz von Wasserstoff.  \n\nProgramm zur Konferenz\n\nExkursion: Am 18. Mai laden wir Sie herzlich ein\, mit uns eine Exkursion zu den deutschen und niederländischen Wasserstoffprojekten der Region zu unternehmen. \n\nProgramm zur Exkursion\n\nDie Teilnahme ist kostenlos. Melden Sie sich HIER an!
URL:https://alt.mariko-leer.de/event/hydrogen-cross-border-conference-2022/
LOCATION:Maritimes Kompetenzzentrum\, Bergmannstraße 36\, 26789 Leer\, Deutschland
CATEGORIES:GreenShipping Niedersachsen,H2Watt
ATTACH;FMTTYPE=image/jpeg:https://alt.mariko-leer.de/wp-content/uploads/2020/12/Background-HyCon.jpg
END:VEVENT
END:VCALENDAR