BEGIN:VCALENDAR
VERSION:2.0
PRODID:-//MARIKO | Maritimes Kompetenzzentrum - ECPv6.6.1//NONSGML v1.0//EN
CALSCALE:GREGORIAN
METHOD:PUBLISH
X-WR-CALNAME:MARIKO | Maritimes Kompetenzzentrum
X-ORIGINAL-URL:https://alt.mariko-leer.de
X-WR-CALDESC:Veranstaltungen für MARIKO | Maritimes Kompetenzzentrum
REFRESH-INTERVAL;VALUE=DURATION:PT1H
X-Robots-Tag:noindex
X-PUBLISHED-TTL:PT1H
BEGIN:VTIMEZONE
TZID:Europe/Berlin
BEGIN:DAYLIGHT
TZOFFSETFROM:+0100
TZOFFSETTO:+0200
TZNAME:CEST
DTSTART:20210328T010000
END:DAYLIGHT
BEGIN:STANDARD
TZOFFSETFROM:+0200
TZOFFSETTO:+0100
TZNAME:CET
DTSTART:20211031T010000
END:STANDARD
END:VTIMEZONE
BEGIN:VEVENT
DTSTART;TZID=Europe/Berlin:20210205T090000
DTEND;TZID=Europe/Berlin:20210205T150000
DTSTAMP:20260424T135208
CREATED:20201216T154638Z
LAST-MODIFIED:20210108T132056Z
UID:14034-1612515600-1612537200@alt.mariko-leer.de
SUMMARY:Hydrogen Cross Border Conference
DESCRIPTION:Grenzüberschreitend die Energiewende gestalten  \nWasserstoff gilt als wichtiger Baustein der Energiewende. Die Niederlande und Deutschland treiben den Aufbau einer Wasserstoffwirtschaft auf beiden Seiten der Grenze voran – und immer häufiger auch gemeinsam. \nAm 5. Februar 2021 veranstalten die zentralen Akteure der Grenzregion den ersten deutsch-niederländischen Wasserstofftag: Die „Hydrogen Cross Border Conference 2021”! \nZwischen 9:00 und 15:00 Uhr werden in einem innovativen Online-Format \n\ndie Unternehmen und Projekte der Grenzregion präsentiert und vernetzt\,\n\n\nDiskussionen mit politischen VertreterInnen beider Länder über zentrale Herausforderungen geführt\,\n\n\nüber ähnliche Voraussetzungen und ungenutzte Möglichkeiten in der grenzübergreifenden Zusammenarbeit gesprochen\,\n\n\nSynergien gehoben und gemeinsame Wege entdeckt.\n\nWir laden Sie herzlich ein\, am ersten deutsch-niederländischen Wasserstofftag teilzunehmen. Veranstalter sind FME aus Groningen\, die H2-Region Emsland und die MARIKO GmbH aus Leer. Die „Hydrogen Cross Border Conference” wird unterstützt vom „Niedersächsischen Ministerium für Bundes- und Europaangelegenheiten und regionale Entwicklung” und der niederländischen Initiative „NLinBusiness”. \nDie Teilnahme ist kostenlos. Die ersten 200 TeilnehmerInnen erhalten ein Veranstaltungspaket mit Informationen und ein wenig Verpflegung postalisch zugesandt. Melden Sie sich HIER an! \n\nSave the date\nKurzprogramm
URL:https://alt.mariko-leer.de/event/hydrogen-cross-border-conference/
CATEGORIES:GreenShipping Niedersachsen,H2Watt
ATTACH;FMTTYPE=image/jpeg:https://alt.mariko-leer.de/wp-content/uploads/2020/12/Background-HyCon.jpg
END:VEVENT
END:VCALENDAR