BEGIN:VCALENDAR
VERSION:2.0
PRODID:-//MARIKO | Maritimes Kompetenzzentrum - ECPv6.6.1//NONSGML v1.0//EN
CALSCALE:GREGORIAN
METHOD:PUBLISH
X-ORIGINAL-URL:https://alt.mariko-leer.de
X-WR-CALDESC:Veranstaltungen für MARIKO | Maritimes Kompetenzzentrum
REFRESH-INTERVAL;VALUE=DURATION:PT1H
X-Robots-Tag:noindex
X-PUBLISHED-TTL:PT1H
BEGIN:VTIMEZONE
TZID:Europe/Berlin
BEGIN:DAYLIGHT
TZOFFSETFROM:+0100
TZOFFSETTO:+0200
TZNAME:CEST
DTSTART:20190331T010000
END:DAYLIGHT
BEGIN:STANDARD
TZOFFSETFROM:+0200
TZOFFSETTO:+0100
TZNAME:CET
DTSTART:20191027T010000
END:STANDARD
END:VTIMEZONE
BEGIN:VEVENT
DTSTART;VALUE=DATE:20191105
DTEND;VALUE=DATE:20191109
DTSTAMP:20260426T012626
CREATED:20191023T072918Z
LAST-MODIFIED:20191028T154311Z
UID:12923-1572912000-1573257599@alt.mariko-leer.de
SUMMARY:EUROPORT 2019
DESCRIPTION:Vom 5. bis 8. November 2019 wird in der Welthafenstadt Rotterdam die führende Messe für Spezialschiffe organisiert. Die Europort ist die Wirtschaftsmetropole für den maritimen Sektor\, da sich die Veranstaltung auf Spezialschiffe und intelligente Lösungen konzentriert\, die den Erfolg bestimmen. Mit 27.000 Fachbesuchern und über 1.000 ausstellenden Unternehmen gehört Europort zu den weltweit führenden maritimen Treffpunkten. \nDer Themenumfang von Europort umfasst Seeschifffahrt\, Offshore Specials\, Binnenschifffahrt\, Baggerarbeiten\, Fischereifahrzeuge\, Arbeitsboote\, Marineschiffe\, Kreuzfahrten & Fähren\, Arbeitsboote und Mega-Yachten. Der besondere Fokus auf Spezialschiffe unterscheidet die Europort von anderen Veranstaltungen. \nDie Messe ist interessant für Hersteller und Lieferanten\, die sich an der Entwicklung beteiligen: Schiffbau\, Reparatur und Umbau\, Antrieb und Manövrieren\, Elektronik\, Kommunikation und Navigation\, Umwelt- und Hilfssysteme\, Decks-\, Sicherheits- und Spezialausrüstung sowie maritime Dienstleistungen. \nDarüber hinaus ist die Europort ein Muss für Schiffseigner\, Werftmanager\, Schiffsdesigner\, Superintendenten\, Flottenmanager\, Schiffsmakler\, technische Ingenieure\, Schiffbauingenieure und alle anderen maritimen Fachleute\, die im Bereich Schiffbau\, Reparatur oder Umbau tätig sind. \nBesuchen Sie uns am Stand 6306 und erfahren Sie mehr über unsere Projekte (koordiniert durch MARIKO und FME):\n• CO2ASTS – CO2-Abfang\, -Speicherung und -Transfer in der Schifffahrt\,\n• H2Watt – Entwicklung eines grenzübergreifenden Technologie-Clusters für den Aufbau von Wasserstoff-Real-Laboren im Wattenmeer \nWeitere Informationen rund um die Messe „Europort 2019“ sowie eine kostenlose Registrierungsmöglichkeit finden Sie hier.\nWir freuen uns auf Ihren Besuch! \n\nEinladung
URL:https://alt.mariko-leer.de/event/europort-2019/
LOCATION:Rotterdam Ahoy nv\, Ahoy-weg 10\, 3084 BA Rotterdam\, Niederlande
CATEGORIES:allgemein
ATTACH;FMTTYPE=image/jpeg:https://alt.mariko-leer.de/wp-content/uploads/2019/10/Europort_Logo-2.jpg
END:VEVENT
BEGIN:VEVENT
DTSTART;VALUE=DATE:20191121
DTEND;VALUE=DATE:20191122
DTSTAMP:20260426T012626
CREATED:20191016T083831Z
LAST-MODIFIED:20191107T112819Z
UID:12909-1574294400-1574380799@alt.mariko-leer.de
SUMMARY:Wasserstofftechnologien – Entwicklung und Perspektiven
DESCRIPTION:7. Energie-Effizienz-Netzwerktreffen \nDer Ansatz\, Energie mittels Wasserstoff zu speichern und bei Bedarf für diverse Anwendungen wieder nutzbar zu machen\, ist im Allgemeinen bekannt. Die konkrete Umsetzung der oftmals nur in der Theorie befindlichen Vorhaben stellt die Akteure in der Praxis vor diverse Herausforderungen. Die chemischen und physikalischen Eigenschaften des begehrten Moleküls erfordern teils komplexe technische Verfahren\, um es für die Energieerzeugung nutzbar zu machen. Auf dieser Veranstaltung werden einige dieser Verfahren durch interessante Fachvorträgen beleuchtet und aktuelle Entwicklungen präsentiert. Zudem werden erste Projektergebnisse zum Förderprojekt WASh2Emden\, das sich mit Wasserstoffanwendungen in Häfen befasst\, vorgestellt. \nWir möchten Sie einladen\, auf Grundlage der prägnanten Impulsvorträge\, mit den Teilnehmern spannende und informative Diskussionen zu führen und produktive Netzwerke zu knüpfen. In verschiedenen Workshops werden alle Teilnehmer die Möglichkeit haben\, ihr Fachwissen\, ihre Ideen und Erfahrungen hinsichtlich der praktischen Umsetzung ihrer Wasserstoffprojekte zu teilen. \nDie Teilnahme an der Veranstaltung ist kostenlos. Die Anmeldung erfolgt unter nordwesthaefen@bremenports.de oder nordwesthaefen@nports.de \nÜber die Programmdetails werden wir Sie in Kürze informieren. \n\nSave the Date\nEinladung
URL:https://alt.mariko-leer.de/event/wasserstofftechnologien-entwicklung-und-perspektiven/
LOCATION:LEER – MARIKO GmbH\, Bergmannstraße 36\,  26789 Leer
CATEGORIES:GreenShipping Niedersachsen,Leer
ATTACH;FMTTYPE=image/jpeg:https://alt.mariko-leer.de/wp-content/uploads/2019/10/Unbenannt-4.jpg
ORGANIZER;CN="Niedersachsen Ports GmbH & Co. KG":MAILTO:info@nports.de
END:VEVENT
END:VCALENDAR