BEGIN:VCALENDAR
VERSION:2.0
PRODID:-//MARIKO | Maritimes Kompetenzzentrum - ECPv6.6.1//NONSGML v1.0//EN
CALSCALE:GREGORIAN
METHOD:PUBLISH
X-WR-CALNAME:MARIKO | Maritimes Kompetenzzentrum
X-ORIGINAL-URL:https://alt.mariko-leer.de
X-WR-CALDESC:Veranstaltungen für MARIKO | Maritimes Kompetenzzentrum
REFRESH-INTERVAL;VALUE=DURATION:PT1H
X-Robots-Tag:noindex
X-PUBLISHED-TTL:PT1H
BEGIN:VTIMEZONE
TZID:Europe/Berlin
BEGIN:DAYLIGHT
TZOFFSETFROM:+0100
TZOFFSETTO:+0200
TZNAME:CEST
DTSTART:20230326T010000
END:DAYLIGHT
BEGIN:STANDARD
TZOFFSETFROM:+0200
TZOFFSETTO:+0100
TZNAME:CET
DTSTART:20231029T010000
END:STANDARD
END:VTIMEZONE
BEGIN:VEVENT
DTSTART;TZID=Europe/Berlin:20230314T093000
DTEND;TZID=Europe/Berlin:20230314T140000
DTSTAMP:20260421T144113
CREATED:20221208T064946Z
LAST-MODIFIED:20230307T122749Z
UID:16343-1678786200-1678802400@alt.mariko-leer.de
SUMMARY:Symposium Zukunftsbranche Segeltechnologie
DESCRIPTION:Die Nutzung von Windenergie für die Schifffahrt schreitet voran. Weltweit werden derzeit zahlreiche Projekte bekannt gegeben. Insbesondere Tanker und Bulker bieten großes Potenzial. Aber auch andere Schifffahrtmärkte zeigen großes Interesse an grünen Schiffen mit Windzusatzantrieb\, Tendenz steigend. \nUnsere maritime Wirtschaft sollte die Chancen nutzen und an diesem Zukunftsmarkt zum Umbau in eine klimaneutrale Schifffahrt partizipieren. In Deutschland gibt es viele wissenschaftliche Initiativen zu klimaschutzrelevanter maritimer Technologie\, doch aus den Forschungserfolgen müssen im nächsten Schritt Geschäftsmodelle für eine nachhaltige maritime Wirtschaft in Norddeutschland entstehen. Als Impulsgeber werden derzeit hochmotivierte F&E Projekte zur Entwicklung von Wind angetriebenen Schiffen durchgeführt. Neue spannende Projekte gehen 2023 an den Start. \nLassen Sie uns diese Thematik gemeinsam am Beispiel wirtschaftlich tragfähiger Konzepte im Bereich der Segeltechnologie diskutieren! \nDie Veranstaltung wird organisiert von der Fraunhofer Arbeitsgruppe Nachhaltige Maritime Mobilität (unter gemeinsamer Leitung der Hochschule Emden/Leer mit dem Fraunhofer Institut für Windenergiesysteme IWES)\, dem Kompetenzzentrum GreenShipping Niedersachsen und der MARIKO GmbH. \nProgramm \n9.00 Empfang\n9.20 Klimaneutrale Schifffahrt – eine große Chance für die niedersächsische Küste\n9.40 Flettnerrotoren auf dem Weg in die Flotten: Vorstellung des Großprojektes FlettnerFLEET\n10.05 Konzeptdesign für ein klimaneutrales Passagierschiff\n10.30 Risiko-Bewertung\, -Management und Versicherung einer neu aufstrebenden Berufsschifffahrt unter Segeln\n10.55 Pause\n11.30 Konzepte für die Automatisierung von Segelsystemen\n11.55 Hybride Modellierung der Hydro- und Aerodynamik von Segelfahrzeugen\n12.20 Technische Projektumsetzung für Segelfahrzeuge in der Berufsschifffahrt\n12.45 Netzwerken beim Imbiss\n13.30 Diskussionsrunde und Ausblick\n14.00 Ende der Veranstaltung \n\nSave the Date\nProgramm\n\nWir freuen uns auf eine interessante Veranstaltung mit Ihnen! \nANMELDUNG\n\n\n  \n\n\n\n\n\n\n\n\n\n Titel\n \n \n Vorname (Pflichtfeld)\n \n \n Nachname (Pflichtfeld)\n \n \n E-Mail-Adresse (Pflichtfeld)\n \n \n Unternehmen (Pflichtfeld)\n \n \n Ich bin damit einverstanden\, dass meine Angaben zu Name und Institution allen Teilnehmern in einer Liste zugänglich gemacht werden. (Pflichtfeld)\n \n Mit der Anmeldung erkläre ich mich einverstanden\, dass Fotos von der Veranstaltung\, auf denen ich zu erkennen bin\, zur Dokumentation der Veranstaltung veröffentlicht werden können. (Pflichtfeld)
URL:https://alt.mariko-leer.de/event/symposium-segeltechnologie-2023/
LOCATION:Maritimes Kompetenzzentrum\, Bergmannstraße 36\, 26789 Leer\, Deutschland
CATEGORIES:GreenShipping Niedersachsen
ATTACH;FMTTYPE=image/png:https://alt.mariko-leer.de/wp-content/uploads/2021/07/Bild1.png
END:VEVENT
BEGIN:VEVENT
DTSTART;TZID=Europe/Berlin:20230322T090000
DTEND;TZID=Europe/Berlin:20230323T170000
DTSTAMP:20260421T144113
CREATED:20221208T073641Z
LAST-MODIFIED:20230309T085128Z
UID:16351-1679475600-1679590800@alt.mariko-leer.de
SUMMARY:Hydrogen Cross Border Conference 2023
DESCRIPTION:Das Wasserstoff-Puzzle – vom Einzelteil zum Gesamtbild \nDie Konferenz in 2023 soll aufzeigen\, wie sich die grenzüberschreitenden Entwicklungen der Wasserstoffwirtschaft in den europäischen Rahmen einfügen und wie hier ansässige Unternehmen aktiv Markterschließungschancen ergreifen und grenzüberschreitend tätig werden können. Außerdem präsentieren Kommunen entlang der Grenzregion in Best-practices ihre regionalen Ansätze zum Einsatz von Wasserstoff im Kontext regionaler Energiesysteme. \nSeien Sie Teil der Hydrogen Cross Border Conference in 2023\, diskutieren Sie mit und fügen Sie mit uns das grenzüberschreitende Wasserstoff-Puzzle zusammen. \nAuch in 2023 wird es am zweiten Tag eine Exkursion geben\, diesmal in die Region Weser-Ems in Deutschland\, wo wir innovative Standorte der Wasserstoffwirtschaft besuchen werden. Die Tour beginnt in Emmen (NL) und wird auch eine Zustiegsmöglichkeit in Deutschland haben. \nKonferenz: Am 22. März dreht sich zwischen 9 und 17 Uhr in Emmen alles um Wasserstoff\, Best-practices und regionale Energiesysteme. \nExkursion: Am 23. März nehmen wir Sie mit zu Wasserstoffprojekten  aus der Weser-Ems Region. \n\nSave the Date\nProgramm\n\nAnmeldung: Die Teilnahme an der Veranstaltung ist für Sie kostenfrei. Weitere Informationen und die Anmeldung finden Sie unter Die Hydrogen Cross Border Conference 2023 (hydrogen-cross-border.eu).
URL:https://alt.mariko-leer.de/event/hydrogen-cross-border-conference-2023/
LOCATION:Van der Valk Hotel Emmen\, Verlengde Herendijk 50\, 7833 JD Nieuw-Amsterdam\, Niederlande
CATEGORIES:GreenShipping Niedersachsen,H2Ostfriesland,H2Watt
ATTACH;FMTTYPE=image/jpeg:https://alt.mariko-leer.de/wp-content/uploads/2022/12/HCBC-Grafik-Puzzle_Website-Banner_150ppi-scaled.jpg
END:VEVENT
END:VCALENDAR