BEGIN:VCALENDAR
VERSION:2.0
PRODID:-//MARIKO | Maritimes Kompetenzzentrum - ECPv6.6.1//NONSGML v1.0//EN
CALSCALE:GREGORIAN
METHOD:PUBLISH
X-WR-CALNAME:MARIKO | Maritimes Kompetenzzentrum
X-ORIGINAL-URL:https://alt.mariko-leer.de
X-WR-CALDESC:Veranstaltungen für MARIKO | Maritimes Kompetenzzentrum
REFRESH-INTERVAL;VALUE=DURATION:PT1H
X-Robots-Tag:noindex
X-PUBLISHED-TTL:PT1H
BEGIN:VTIMEZONE
TZID:Europe/Berlin
BEGIN:DAYLIGHT
TZOFFSETFROM:+0100
TZOFFSETTO:+0200
TZNAME:CEST
DTSTART:20230326T010000
END:DAYLIGHT
BEGIN:STANDARD
TZOFFSETFROM:+0200
TZOFFSETTO:+0100
TZNAME:CET
DTSTART:20231029T010000
END:STANDARD
END:VTIMEZONE
BEGIN:VEVENT
DTSTART;TZID=Europe/Berlin:20230131T100000
DTEND;TZID=Europe/Berlin:20230131T140000
DTSTAMP:20260422T101845
CREATED:20221219T114527Z
LAST-MODIFIED:20230117T102900Z
UID:16442-1675159200-1675173600@alt.mariko-leer.de
SUMMARY:Maritime Brennstoffzellensysteme – Entwicklungsstand und Perspektiven
DESCRIPTION:In der Schifffahrt sind alternativen zu Verbrennungsmotoren derzeit rar\, so scheint es zumindest beim Rückblick auf die SMM 2022. Doch tut sich in der Branche einiges: Systeme im kleinen aber auch großen Maßstab sind weit entwickelt\, bekommen teilweise schon ihre Klassifikation. Sie können durch ihre guten Wirkungsgrade einen wichtigen Beitrag dazu leisten\, die auf IMO- und EU-Ebene festgelegten CO2-Einsparungen der Flotten zu erreichen. \nIn dieser Veranstaltung werden verschiedene Systeme vorgestellt\, Anwendungen gezeigt und der aktuelle Stand zur Entwicklung der Regulatorik auf IMO-Ebene im Bereich Brennstoffzellen und alternative Kraftstoffe dargelegt. In einer Diskussionsrunde wollen wir gemeinsam erörtern\, was noch fehlt\, um den Markt zu erobern: ist es ein höheres Technology Readiness Level\, eine bessere Verfügbarkeit von Systemen und Materialien\, niedrigere Kosten oder sind es ganz andere Faktoren? \nProgramm: \n10:00 Begrüßung\n10:05 Modular methanol fuel cell system\n10:25 Brennstoffzellensysteme in der Anwendung: Binnenschiffe\, Arbeitsboote und Methanol-Hafenboot\n11:00 Pause\n11:20 Brennstoffzellensysteme im Megawattbereich\n11:40 Update zu IMO-Tätigkeiten im Bereich Brennstoffzellen und alternative Kraftstoffe\n12:00 Diskussionsrunde: Was fehlt zum Durchbruch der Technologie?\n12:45 Imbiss\n14:00 Ende der Veranstaltung \nProgramm Download \nDie Veranstaltung findet in Präsenz statt\, die Teilnahme ist kostenfrei. Die Teilnehmerzahl ist begrenzt. Die Plätze werden in der Reihenfolge der Anmeldung vergeben. Die Einladung mit Programm und Anreisehinweisen erhalten Sie in Kürze. \nWir freuen uns auf eine spannende Diskussion mit Ihnen! \nANMELDUNG\nDie Anmeldung ist bereits HIER möglich.
URL:https://alt.mariko-leer.de/event/maritime-brennstoffzellensysteme/
LOCATION:Maritimes Kompetenzzentrum\, Bergmannstraße 36\, 26789 Leer\, Deutschland
CATEGORIES:GreenShipping Niedersachsen
ATTACH;FMTTYPE=image/jpeg:https://alt.mariko-leer.de/wp-content/uploads/2022/12/AdobeStock_108039931-scaled.jpeg
END:VEVENT
END:VCALENDAR