BEGIN:VCALENDAR
VERSION:2.0
PRODID:-//MARIKO | Maritimes Kompetenzzentrum - ECPv6.6.1//NONSGML v1.0//EN
CALSCALE:GREGORIAN
METHOD:PUBLISH
X-WR-CALNAME:MARIKO | Maritimes Kompetenzzentrum
X-ORIGINAL-URL:https://alt.mariko-leer.de
X-WR-CALDESC:Veranstaltungen für MARIKO | Maritimes Kompetenzzentrum
REFRESH-INTERVAL;VALUE=DURATION:PT1H
X-Robots-Tag:noindex
X-PUBLISHED-TTL:PT1H
BEGIN:VTIMEZONE
TZID:Europe/Berlin
BEGIN:DAYLIGHT
TZOFFSETFROM:+0100
TZOFFSETTO:+0200
TZNAME:CEST
DTSTART:20210328T010000
END:DAYLIGHT
BEGIN:STANDARD
TZOFFSETFROM:+0200
TZOFFSETTO:+0100
TZNAME:CET
DTSTART:20211031T010000
END:STANDARD
END:VTIMEZONE
BEGIN:VEVENT
DTSTART;TZID=Europe/Berlin:20210813T100000
DTEND;TZID=Europe/Berlin:20210813T113000
DTSTAMP:20260420T214426
CREATED:20210719T124257Z
LAST-MODIFIED:20210721T095947Z
UID:14821-1628848800-1628854200@alt.mariko-leer.de
SUMMARY:Digital Mindset and Skills - Digitale Kommunikation und Schnittstellen in der maritimen Wirtschaft
DESCRIPTION:Der Inhalt ist geschützt.
URL:https://alt.mariko-leer.de/event/digital-mind-set-and-skills-digitale-kommunikation-und-schnittstellen-in-der-maritimen-wirtschaft/
LOCATION:Online-Workshop
CATEGORIES:MariConnect
END:VEVENT
END:VCALENDAR