BEGIN:VCALENDAR
VERSION:2.0
PRODID:-//MARIKO | Maritimes Kompetenzzentrum - ECPv6.6.1//NONSGML v1.0//EN
CALSCALE:GREGORIAN
METHOD:PUBLISH
X-WR-CALNAME:MARIKO | Maritimes Kompetenzzentrum
X-ORIGINAL-URL:https://alt.mariko-leer.de
X-WR-CALDESC:Veranstaltungen für MARIKO | Maritimes Kompetenzzentrum
REFRESH-INTERVAL;VALUE=DURATION:PT1H
X-Robots-Tag:noindex
X-PUBLISHED-TTL:PT1H
BEGIN:VTIMEZONE
TZID:Europe/Berlin
BEGIN:DAYLIGHT
TZOFFSETFROM:+0100
TZOFFSETTO:+0200
TZNAME:CEST
DTSTART:20210328T010000
END:DAYLIGHT
BEGIN:STANDARD
TZOFFSETFROM:+0200
TZOFFSETTO:+0100
TZNAME:CET
DTSTART:20211031T010000
END:STANDARD
END:VTIMEZONE
BEGIN:VEVENT
DTSTART;TZID=Europe/Berlin:20210921T140000
DTEND;TZID=Europe/Berlin:20210921T153000
DTSTAMP:20260422T194146
CREATED:20210826T141335Z
LAST-MODIFIED:20210826T142118Z
UID:14920-1632232800-1632238200@alt.mariko-leer.de
SUMMARY:GreenPorts - Zukünftige Mobilität in Häfen
DESCRIPTION:In diesem Online-MeetUp unserer GreenPorts-Reihe geht es um das Thema nachhaltige Mobilität in Häfen. Experten werden in kurzen Vorträgen Einblicke in die Bereiche Hinterlandverkehr\, Hafenequipment und Hafenflottenentwicklung geben. Nutzen Sie diese Impulse als Diskussionsgrundlage und Anregung\, um eigene Initiativen auf den Weg zu bringen oder voranzutreiben. \nDie Teilnahme ist kostenfrei. Die Online-Konferenz wird über das System Microsoft Teams durchgeführt. Nach der Anmeldung wird Ihnen ein Link an die angegebene E-Mail-Adresse zugesendet\, mit dem Sie an der Veranstaltung teilnehmen können. \n\nEinladung\n\nMelden Sie sich HIER an! \nWir freuen uns auf Ihre Teilnahme!
URL:https://alt.mariko-leer.de/event/greenports-zukuenftige-mobilitaet-in-haefen/
CATEGORIES:GreenShipping Niedersachsen
ATTACH;FMTTYPE=image/jpeg:https://alt.mariko-leer.de/wp-content/uploads/2020/09/Port_gru╠en-klein.jpg
END:VEVENT
END:VCALENDAR